BEGIN:VCALENDAR
VERSION:2.0
PRODID:-//wp-events-plugin.com//7.2.3.1//EN
TZID:Europe/Berlin
X-WR-TIMEZONE:Europe/Berlin
BEGIN:VEVENT
UID:2369@nivas-bielefeld.de
DTSTART;TZID=Europe/Berlin:20261230T194500
DTEND;TZID=Europe/Berlin:20261230T210000
DTSTAMP:20260407T115801Z
URL:https://www.nivas-bielefeld.de/events/yoga-neu-gedacht-2026-05-13-2026
 -05-20-2026-05-27-2026-06-03-2026-06-10-2026-06-17-2026-06-24-2026-07-01-2
 026-07-08-2026-07-15-2026-07-22-2026-07-29-2026-08-05-2026-08-12-2026-08-1
 9-2026-23-2026-12-30/
SUMMARY:Yoga neu gedacht
DESCRIPTION:Yoga neu gedacht\nStark im Körper. Ruhig im Geist.\nIn dieser 
 75-minütigen Stunde darfst du Yoga auf eine neue\, ganzheitliche Weise er
 leben. Wir beginnen mit fließenden\, traditionellen Yogasequenzen\, die d
 einen Körper aufwärmen\, deine Atmung vertiefen und dich in Bewegung bri
 ngen. Anschließend verbinden wir Yoga mit sanften Krafttrainingselementen
  jedoch nicht im Leistungsbereich\, sondern gezielt um den gesamten Körpe
 r zu stärken. So wird mit der Zeit jede Bewegung im Alltag leichter\, sta
 biler und geschmeidiger. Im dritten Teil der Stunde widmen wir uns deinem 
 Nervensystem. Ruhige und regulierende Übungen werden dich von innen her s
 tärken und entspannen. So findest du zurück zu Balance\, Ruhe und Energi
 e.\n\nMein Fokus liegt auf Sicherheit\, Kraft und Gelassenheit. Qualitäte
 n\, die dich in deiner Mitte halten. Jede Übung lässt sich anpassen\, ga
 nz gleich\, welches Alter\, welche Erfahrung oder welche körperlichen Vor
 aussetzungen du mitbringst.\n\nEin Kurs für alle\, die Yoga nicht nur pra
 ktizieren\, sondern neu erleben möchten. Kraftvoll\, bewusst und achtsam.
 \n\nWann?: Mittwochs um 19:45 Uhr\nPreis: • 18 € pro Einzelstunde • 
 170 € für eine Zehnerkarte (Gültig für 12 Wochen ab gebuchtem Kurster
 min)\nKontakt &amp\; Anmeldung: • E‑Mail: maren@yoganeugedacht.de • 
 Telefon: 015224391874
CATEGORIES:Wöchentliche Kurse
END:VEVENT
BEGIN:VTIMEZONE
TZID:Europe/Berlin
X-LIC-LOCATION:Europe/Berlin
BEGIN:STANDARD
DTSTART:20261025T020000
TZOFFSETFROM:+0200
TZOFFSETTO:+0100
TZNAME:CET
END:STANDARD
END:VTIMEZONE
END:VCALENDAR