BEGIN:VCALENDAR
VERSION:2.0
PRODID:-//wp-events-plugin.com//7.2.3.1//EN
TZID:Europe/Berlin
X-WR-TIMEZONE:Europe/Berlin
BEGIN:VEVENT
UID:2371@nivas-bielefeld.de
DTSTART;TZID=Europe/Berlin:20260427T193000
DTEND;TZID=Europe/Berlin:20260427T203000
DTSTAMP:20260414T144739Z
URL:https://www.nivas-bielefeld.de/events/tempo-raus-kennenlern-reihe/
SUMMARY:Tempo raus - Kennenlern-Reihe
DESCRIPTION:Tempo raus - Kennelern-Reihe\nMontags 19:30 – 20:30\, 27.04. 
 – 04.05. – 11.05. – 18.05.26 / 4 Termine 80 €\n\nHier findest du a
 lle Informationen zum Tempo raus Kurs.\n\nAnmeldung\nBirgit Dittrich\nE-Ma
 il: info@im-gleichgewicht-bielefeld.de\nTelefon: 05206 / 99 82 661
ATTACH;FMTTYPE=image/jpeg:https://www.nivas-bielefeld.de/wp-content/upload
 s/2025/10/Tempo-raus-faszienarbeit.jpg
CATEGORIES:Workshop,Tempo raus
END:VEVENT
BEGIN:VTIMEZONE
TZID:Europe/Berlin
X-LIC-LOCATION:Europe/Berlin
BEGIN:DAYLIGHT
DTSTART:20260329T030000
TZOFFSETFROM:+0100
TZOFFSETTO:+0200
TZNAME:CEST
END:DAYLIGHT
END:VTIMEZONE
END:VCALENDAR