BEGIN:VCALENDAR
VERSION:2.0
PRODID:-//wp-events-plugin.com//7.2.3.1//EN
TZID:Europe/Berlin
X-WR-TIMEZONE:Europe/Berlin
BEGIN:VEVENT
UID:2292@nivas-bielefeld.de
DTSTART;TZID=Europe/Berlin:20270111T113000
DTEND;TZID=Europe/Berlin:20270111T123000
DTSTAMP:20260320T110636Z
URL:https://www.nivas-bielefeld.de/events/pilates-60-2-2026-04-06-2026-04-
 13-2026-04-20-2026-04-27-2026-05-04-2026-05-11-2026-05-18-2026-05-25-2026-
 06-01-2026-06-08-2026-06-15-2026-06-22-2026-06-29-2026-07-06-2026-07-13-20
 26-07-04-2027-01-11/
SUMMARY:Pilates 60+
DESCRIPTION:\n\nPilates ist ein Bewegungstraining. Es spricht gleichzeitig 
 Kraft\, Agilität und Koordination an. So wird die Mobilität von älteren
  Menschen erhalten und gefördert. Pilates-Übungen werden eher langsam un
 d in fließenden Bewegungen durchgeführt\, so dass der Körper nicht übe
 rbeansprucht wird. Pilates für ältere Menschen ist ideal für den Mobili
 tätserhalt und der Sturzprophylaxe. Die Übungen können im Stehen\, Lieg
 en\, mit und auf dem Stuhl ausgeführt werden.\n\nAm ersten Treffen werden
  die Erwartungen und eigene Ziele der Teilnehmerinnen und Teilnehmer abgek
 lärt. Gearbeitet wird in kleinen Gruppen mit acht Teilnehmerinnen und Tei
 lnehmer.\n\n\n\n\n\n\nKosten\n60\,- € pro Kurs (6 Einheiten)\nInsgesamt 
 werden sechs Einheiten angeboten.\nDie erste Einheit ist zum Kennenlernen 
 der Methode und kostenlos.\n\nAnmeldung:\nTelefon: 05225 8711777\nHandy: 0
 173 5339424\nE-Mail: barbara.sommer (@) mailbox.org\n\nKursleitung:\n\nBar
 bara Sommer\n\n
ATTACH;FMTTYPE=image/jpeg:https://www.nivas-bielefeld.de/wp-content/upload
 s/2022/05/Pilates-60-plus-bielefeld-barbara-sommer-nivas.jpg
CATEGORIES:Wöchentliche Kurse,Pilates
END:VEVENT
BEGIN:VTIMEZONE
TZID:Europe/Berlin
X-LIC-LOCATION:Europe/Berlin
BEGIN:STANDARD
DTSTART:20261025T020000
TZOFFSETFROM:+0200
TZOFFSETTO:+0100
TZNAME:CET
END:STANDARD
END:VTIMEZONE
END:VCALENDAR