BEGIN:VCALENDAR
VERSION:2.0
PRODID:-//wp-events-plugin.com//7.2.3.1//EN
TZID:Europe/Berlin
X-WR-TIMEZONE:Europe/Berlin
BEGIN:VEVENT
UID:2195@nivas-bielefeld.de
DTSTART;TZID=Europe/Berlin:20261008T173000
DTEND;TZID=Europe/Berlin:20261008T190000
DTSTAMP:20260320T105621Z
URL:https://www.nivas-bielefeld.de/events/hatha-yoga-flow-2026-10-08/
SUMMARY:Hatha Yoga Flow
DESCRIPTION:Hatha Yoga Flow\nIn dieser fließenden Hatha-Yogastunde können
  Körper und Geist entspannen und zur Ruhe kommen. In den Asanas (Körper
 übungen) kräftigen und stabilisieren wir den Körper. Dehnungen helfen\,
  flexibler zu werden. Verschiedene Atembeobachtungen und Atemübungen (Pra
 nayama) sind genauso Bestandteil der Praxis wie kleine Geschichten\, die d
 ie jeweilige Ausrichtung unterstützen. Diese ganzheitliche Yogapraxis bri
 ngt Dich in Deinen Energiefluss. Sie berührt Körper\, Geist und Seele.\n
 \nInas Stunden eignen sich für alle Altersgruppen und Vorerfahrungen. Ina
  gibt viele Optionen\, so dass sich jeder in seiner Praxis wohlfühlen und
  weiter entwickeln kann.\n\nIhr Unterrichtsstil zeichnet sich durch eine k
 lare\, präzise Sprache aus. So führt ihre Stimme Dich sicher durch die S
 tunde – wenn Du möchtest\, kannst Du die Augen schließen und vollstän
 dig in Dein Yoga-Erleben eintauchen.\nZu den Preisen\nAnmeldung\n\ni.rockm
 ann (@) gmx.de oder 0176 21794046\n\nKursleitung\n\nIna Rockmann\n\nIch fr
 eue mich auf Dich!
ATTACH;FMTTYPE=image/jpeg:https://www.nivas-bielefeld.de/wp-content/upload
 s/2021/09/Hatha-Yoga-Flow-Ina-Rockmann-Bielefeld-NIVAS.jpg
CATEGORIES:Hatha Yoga,Wöchentliche Kurse
END:VEVENT
BEGIN:VTIMEZONE
TZID:Europe/Berlin
X-LIC-LOCATION:Europe/Berlin
BEGIN:DAYLIGHT
DTSTART:20260329T030000
TZOFFSETFROM:+0100
TZOFFSETTO:+0200
TZNAME:CEST
END:DAYLIGHT
END:VTIMEZONE
END:VCALENDAR