BEGIN:VCALENDAR
VERSION:2.0
PRODID:-//wp-events-plugin.com//7.2.3.1//EN
TZID:Europe/Berlin
X-WR-TIMEZONE:Europe/Berlin
BEGIN:VEVENT
UID:2099@nivas-bielefeld.de
DTSTART;TZID=Europe/Berlin:20260513T181500
DTEND;TZID=Europe/Berlin:20260513T191500
DTSTAMP:20260407T090348Z
URL:https://www.nivas-bielefeld.de/events/fitness-trifft-auf-faszien-2-202
 6-05-13/
SUMMARY:Faszien Fitness
DESCRIPTION:Faszien Fitness\nMein ganzheitliches Angebot richtet sich an Me
 nschen\, die in die Bewegung zurückfinden möchten oder weiter in der Bew
 egung bleiben wollen. In ruhiger und entspannter Atmosphäre geht es darum
 \, zu erlernen und zu erspüren\, welches Zusammenspiel es zwischen Wirbel
 säule\, Füßen\, Beckenboden und Schultergürtel gibt. Ein starker Rück
 en braucht nicht nur eine gute Bauchmuskulatur\, sondern auch standfeste B
 eine\, einen muskulösen Po\, eine flexible Wirbelsäule und geschmeidige 
 Faszien. In den Kursstunden zeige ich auch\, welche bedeutende Rolle Faszi
 en und Muskulatur bei der Bewegung spielen. Ein harmonisch abgestimmtes Pr
 ogramm aus Spüren\, Beleben\, Kräftigen und Mobilisieren\, das den gesam
 ten Körper fordert. Das Konzept beruht auf meiner langjährigen Erfahrung
  in den Bereichen Pilates\, Yoga\, Faszienfitness und Faszientraining.\n\n
 Ich möchte Dich begleiten und dabei unterstützen\, Deinem Körper liebev
 oll ein Stück näher zu kommen und Dein Gleichgewicht wieder zu finden un
 d zu halten.\n\nMitzubringen bequeme Kleidung und ein Handtuch.\n\nKurslei
 tung: Birgit Dittrich (Alle weiteren Informationen findet ihr auf meiner W
 ebseite: Kurse)\n\nVerbindliche Anmeldung: info (@) im-gleichgewicht-biele
 feld.de oder Tel: 05206 – 998 26 61
ATTACH;FMTTYPE=image/jpeg:https://www.nivas-bielefeld.de/wp-content/upload
 s/2021/08/Birgit-Dittrich-Faszien-Pilates-Ganzheitliches-Rueckentraining-P
 ilates-Bielefeld-Nivas.webp
CATEGORIES:Fitness trifft auf Faszien,Wöchentliche Kurse
END:VEVENT
BEGIN:VTIMEZONE
TZID:Europe/Berlin
X-LIC-LOCATION:Europe/Berlin
BEGIN:DAYLIGHT
DTSTART:20260329T030000
TZOFFSETFROM:+0100
TZOFFSETTO:+0200
TZNAME:CEST
END:DAYLIGHT
END:VTIMEZONE
END:VCALENDAR