BEGIN:VCALENDAR
VERSION:2.0
PRODID:-//wp-events-plugin.com//7.2.3.1//EN
TZID:Europe/Berlin
X-WR-TIMEZONE:Europe/Berlin
BEGIN:VEVENT
UID:2372@nivas-bielefeld.de
DTSTART;TZID=Europe/Berlin:20260601T193000
DTEND;TZID=Europe/Berlin:20260601T203000
DTSTAMP:20260414T144614Z
URL:https://www.nivas-bielefeld.de/events/faszien-fitness-kennenlern-reihe
 /
SUMMARY:Faszien-Fitness - Kennenlern-Reihe
DESCRIPTION:faszien-Fitness - Kennelern-Reihe\nMontags 19:30 – 20:30\, 01
 .06. – 08.06. – 15.06. – 22.06.26 / 4 Termine 80 €\n\nHier findest
  du alle Informationen zum Faszien-Fitness Kurs.\n\n&nbsp\;\n\nAnmeldung\n
 Birgit Dittrich\nE-Mail: info@im-gleichgewicht-bielefeld.de\nTelefon: 0520
 6 / 99 82 661
ATTACH;FMTTYPE=image/jpeg:https://www.nivas-bielefeld.de/wp-content/upload
 s/2025/10/Faszien-Fitness.jpg
CATEGORIES:Workshop,Tempo raus
END:VEVENT
BEGIN:VTIMEZONE
TZID:Europe/Berlin
X-LIC-LOCATION:Europe/Berlin
BEGIN:DAYLIGHT
DTSTART:20260329T030000
TZOFFSETFROM:+0100
TZOFFSETTO:+0200
TZNAME:CEST
END:DAYLIGHT
END:VTIMEZONE
END:VCALENDAR